BEGIN:VCALENDAR
VERSION:2.0
PRODID:-//亚洲成人视频
//NONSGML Events //EN
CALSCALE:GREGORIAN
X-WR-CALNAME:亚洲成人视频
BEGIN:VEVENT
CREATED:20250905T195430Z
UID:44721
DTEND;VALUE=DATE:20251001T203000
DTSTART;VALUE=DATE:20251001T183000
DTSTAMP:20260420T174628Z
LOCATION:亚洲成人视频 - Seeley Hall
DESCRIPTION:
Join us for the launch of聽Run Like A Girl, the inspiri
SUMMARY:Book Launch: Run Like A Girl by Catherine McKenna
ORGANIZER:亚洲成人视频
URL;VALUE=URI:/events/book-launch-catherine-mckenna-2025/
TRANSP:OPAQUE
BEGIN:VALARM
ACTION:DISPLAY
DESCRIPTION:Reminder for Book Launch: Run Like A Girl by Catherine McKenna
END:VALARM
END:VEVENT
END:VCALENDAR