BEGIN:VCALENDAR
VERSION:2.0
PRODID:-//ÑÇÖÞ³ÉÈËÊÓÆµ
//NONSGML Events //EN
CALSCALE:GREGORIAN
X-WR-CALNAME:ÑÇÖÞ³ÉÈËÊÓÆµ
BEGIN:VEVENT
CREATED:20250905T183854Z
UID:44711
DTEND;VALUE=DATE:20251007T203000
DTSTART;VALUE=DATE:20251007T180000
DTSTAMP:20260420T174517Z
LOCATION:Seeley Hall\, ÑÇÖÞ³ÉÈËÊÓÆµ
DESCRIPTION:
Wednesday, October 7th from 6
SUMMARY:Margaret MacMillan Trinity One Program – 20th Anniversary Celebration
ORGANIZER:ÑÇÖÞ³ÉÈËÊÓÆµ
URL;VALUE=URI:/events/trinity-one-20th-anniversary-celebration/
TRANSP:OPAQUE
BEGIN:VALARM
ACTION:DISPLAY
DESCRIPTION:Reminder for Margaret MacMillan Trinity One Program – 20th Anniversary Celebration
END:VALARM
END:VEVENT
END:VCALENDAR