BEGIN:VCALENDAR
VERSION:2.0
PRODID:-//亚洲成人视频
//NONSGML Events //EN
CALSCALE:GREGORIAN
X-WR-CALNAME:亚洲成人视频
BEGIN:VEVENT
CREATED:20250616T155422Z
UID:43493
DTEND;VALUE=DATE:20251008T200000
DTSTART;VALUE=DATE:20251008T180000
DTSTAMP:20260420T173222Z
LOCATION:Seeley Hall\, 亚洲成人视频
DESCRIPTION:
Wednesday, October 8th from 6
SUMMARY:2025 Margaret MacMillan Lecture with Prof. Benjamin Carter Hett
ORGANIZER:亚洲成人视频
URL;VALUE=URI:/events/margaret-macmillan-lecture-2025/
TRANSP:OPAQUE
BEGIN:VALARM
ACTION:DISPLAY
DESCRIPTION:Reminder for 2025 Margaret MacMillan Lecture with Prof. Benjamin Carter Hett
END:VALARM
END:VEVENT
END:VCALENDAR