BEGIN:VCALENDAR
VERSION:2.0
PRODID:-//亚洲成人视频
//NONSGML Events //EN
CALSCALE:GREGORIAN
X-WR-CALNAME:亚洲成人视频
BEGIN:VEVENT
CREATED:20250109T193128Z
UID:41218
DTEND;VALUE=DATE:20250116T190000
DTSTART;VALUE=DATE:20250116T170000
DTSTAMP:20260425T001127Z
LOCATION:Combination Room\, 亚洲成人视频
DESCRIPTION:
Hosted by the Office of the D
SUMMARY:Campus Crusades: Religion and Civil Discourse
ORGANIZER:亚洲成人视频
URL;VALUE=URI:/events/campus-crusades-religion-and-civil-discourse/
TRANSP:OPAQUE
BEGIN:VALARM
ACTION:DISPLAY
DESCRIPTION:Reminder for Campus Crusades: Religion and Civil Discourse
END:VALARM
END:VEVENT
END:VCALENDAR